BEGIN:VCALENDAR
VERSION:2.0
PRODID:-//Institute for Society and Genetics - ECPv6.15.20//NONSGML v1.0//EN
CALSCALE:GREGORIAN
METHOD:PUBLISH
X-ORIGINAL-URL:https://socgen.ucla.edu
X-WR-CALDESC:Events for Institute for Society and Genetics
REFRESH-INTERVAL;VALUE=DURATION:PT1H
X-Robots-Tag:noindex
X-PUBLISHED-TTL:PT1H
BEGIN:VTIMEZONE
TZID:America/Los_Angeles
BEGIN:DAYLIGHT
TZOFFSETFROM:-0800
TZOFFSETTO:-0700
TZNAME:PDT
DTSTART:20220313T100000
END:DAYLIGHT
BEGIN:STANDARD
TZOFFSETFROM:-0700
TZOFFSETTO:-0800
TZNAME:PST
DTSTART:20221106T090000
END:STANDARD
BEGIN:DAYLIGHT
TZOFFSETFROM:-0800
TZOFFSETTO:-0700
TZNAME:PDT
DTSTART:20230312T100000
END:DAYLIGHT
BEGIN:STANDARD
TZOFFSETFROM:-0700
TZOFFSETTO:-0800
TZNAME:PST
DTSTART:20231105T090000
END:STANDARD
BEGIN:DAYLIGHT
TZOFFSETFROM:-0800
TZOFFSETTO:-0700
TZNAME:PDT
DTSTART:20240310T100000
END:DAYLIGHT
BEGIN:STANDARD
TZOFFSETFROM:-0700
TZOFFSETTO:-0800
TZNAME:PST
DTSTART:20241103T090000
END:STANDARD
BEGIN:DAYLIGHT
TZOFFSETFROM:-0800
TZOFFSETTO:-0700
TZNAME:PDT
DTSTART:20250309T100000
END:DAYLIGHT
BEGIN:STANDARD
TZOFFSETFROM:-0700
TZOFFSETTO:-0800
TZNAME:PST
DTSTART:20251102T090000
END:STANDARD
END:VTIMEZONE
BEGIN:VEVENT
DTSTART;TZID=America/Los_Angeles:20240718T113000
DTEND;TZID=America/Los_Angeles:20240718T165900
DTSTAMP:20260420T190525
CREATED:20250815T222735Z
LAST-MODIFIED:20250815T222939Z
UID:18277-1721302200-1721321940@socgen.ucla.edu
SUMMARY:“Writing Climate Futures”\, A Conversation with Bharat Venkat (ISG)\, David Wallace-Wells\, Jenny Offill\, & Jonathan Blake
DESCRIPTION:Los Angeles Review of Books and The Berggruen Institute present Writing Climate Futures\, featuring David Wallace-Wells\, Jenny Offill\, ISG faculty Bharat Venkat\, and Jonathan Blake. \nAs our planet faces a climate crisis\, questions about the role and efficacy of environmental writing assume greater urgency by the day. Through education\, envisioning fictitious new worlds\, and pushing forward the public discourse\, writing holds the power to move the conversation we have around the future of our planet. LARB and The Berggruen Institute are thrilled to be joined by exciting voices in the climate movement from across genres to discuss how writing can enact change. \nMore information at the LA Review of Books website: https://lareviewofbooks.org/event/writing-climate-futures/
URL:https://socgen.ucla.edu/event/writing-climate-futures-a-conversation-with-bharat-venkat-isg-david-wallace-wells-jenny-offill-jonathan-blake/
END:VEVENT
BEGIN:VEVENT
DTSTART;TZID=America/Los_Angeles:20240301T040000
DTEND;TZID=America/Los_Angeles:20240301T053000
DTSTAMP:20260420T190525
CREATED:20250815T222735Z
LAST-MODIFIED:20250815T222939Z
UID:18278-1709265600-1709271000@socgen.ucla.edu
SUMMARY:The Politics of “Male”  Reproductive Health
DESCRIPTION:
URL:https://socgen.ucla.edu/event/the-politics-of-male-reproductive-health/
END:VEVENT
BEGIN:VEVENT
DTSTART;TZID=America/Los_Angeles:20240125T041500
DTEND;TZID=America/Los_Angeles:20240125T054500
DTSTAMP:20260420T190525
CREATED:20250815T222735Z
LAST-MODIFIED:20250815T222939Z
UID:18280-1706156100-1706161500@socgen.ucla.edu
SUMMARY:Chronicity\, Endings\, and Ethnography:  a book panel and discussion with Bharat Venkat (UCLA) and Todd Meyer (McGill)
DESCRIPTION:
URL:https://socgen.ucla.edu/event/chronicity-endings-and-ethnography-a-book-panel-and-discussion-with-bharat-venkat-ucla-and-todd-meyer-mcgill/
END:VEVENT
BEGIN:VEVENT
DTSTART;TZID=America/Los_Angeles:20240123T110000
DTEND;TZID=America/Los_Angeles:20240123T143400
DTSTAMP:20260420T190525
CREATED:20250815T222735Z
LAST-MODIFIED:20250815T222939Z
UID:18279-1706007600-1706020440@socgen.ucla.edu
SUMMARY:Genomic Analysis of an Ancient Armenian Population: Implications For Public Health Policy In The Homeland And The Diaspora
DESCRIPTION:ISG’s Wayne Grody speaks at the event with commentary by Drs. Evgeni V. Sokurenko\, M.D.\, Ph.D\, and Sevak Avagyan\, M.D. See below flyer for more details. \nLearn More and RSVP at bit.ly/PAI01-23-24
URL:https://socgen.ucla.edu/event/genomic-analysis-of-an-ancient-armenian-population-implications-for-public-health-policy-in-the-homeland-and-the-diaspora/
END:VEVENT
BEGIN:VEVENT
DTSTART;TZID=America/Los_Angeles:20231201T040000
DTEND;TZID=America/Los_Angeles:20231201T050000
DTSTAMP:20260420T190525
CREATED:20250815T222735Z
LAST-MODIFIED:20250815T222939Z
UID:18281-1701403200-1701406800@socgen.ucla.edu
SUMMARY:ISG Lunchtime Series: Heather Dron\, Dec 1st
DESCRIPTION:Image credit: Napa State Hospital\, 1950\, Courtesy of Bancroft Library
URL:https://socgen.ucla.edu/event/isg-lunchtime-series-heather-dron-dec-1st/
END:VEVENT
END:VCALENDAR